BEGIN:VCALENDAR
VERSION:2.0
PRODID:-//jEvents 2.0 for Joomla//EN
CALSCALE:GREGORIAN
METHOD:PUBLISH
BEGIN:VEVENT
UID:abb458059165359fc46d8c99279adde5
CATEGORIES:Gymnasium
CREATED:20190924T142647
SUMMARY:Bücherumschlag Kl. 8-11
DESCRIPTION:
DTSTAMP:20260425T174726
DTSTART;VALUE=DATE:20200720
DTEND;VALUE=DATE:20200721
SEQUENCE:0
TRANSP:OPAQUE
END:VEVENT
END:VCALENDAR