BEGIN:VCALENDAR
VERSION:2.0
PRODID:-//jEvents 2.0 for Joomla//EN
CALSCALE:GREGORIAN
METHOD:PUBLISH
BEGIN:VEVENT
UID:710a1bc2f3d47b2bfe7f38f87639a085
CATEGORIES:Gymnasium
CREATED:20190924T142727
SUMMARY:Bücherumschlag Kl. 5-7
DESCRIPTION:
DTSTAMP:20260425T174118
DTSTART;VALUE=DATE:20200721
DTEND;VALUE=DATE:20200722
SEQUENCE:0
TRANSP:OPAQUE
END:VEVENT
END:VCALENDAR