BEGIN:VCALENDAR
VERSION:2.0
PRODID:-//jEvents 2.0 for Joomla//EN
CALSCALE:GREGORIAN
METHOD:PUBLISH
BEGIN:VEVENT
UID:0578a9edf9343730ce4bfb33f10e9f9b
CATEGORIES:Gymnasium
CREATED:20200804T121910
SUMMARY:Elternabend Kl. 7/8
DESCRIPTION:
DTSTAMP:20260424T160407
DTSTART:20200921T173000
SEQUENCE:0
TRANSP:OPAQUE
END:VEVENT
END:VCALENDAR