BEGIN:VCALENDAR
VERSION:2.0
PRODID:-//jEvents 2.0 for Joomla//EN
CALSCALE:GREGORIAN
METHOD:PUBLISH
BEGIN:VEVENT
UID:8c38f312df78f53b0d0fc3f61264e25b
CATEGORIES:Seminar für Aus- und Weiterbildung
CREATED:20200804T122639
SUMMARY:Montessori-Diplomkurs
DESCRIPTION:
DTSTAMP:20260424T151441
DTSTART;VALUE=DATE:20200926
DTEND;VALUE=DATE:20200927
SEQUENCE:0
TRANSP:OPAQUE
END:VEVENT
END:VCALENDAR