BEGIN:VCALENDAR
VERSION:2.0
PRODID:-//jEvents 2.0 for Joomla//EN
CALSCALE:GREGORIAN
METHOD:PUBLISH
BEGIN:VEVENT
UID:e7e49b53465ae9f19023acb2fa32225e
CATEGORIES:Gymnasium
CREATED:20200804T122835
SUMMARY:Elternabend K2
DESCRIPTION:
DTSTAMP:20260425T154656
DTSTART:20200929T173000
SEQUENCE:0
TRANSP:OPAQUE
END:VEVENT
END:VCALENDAR