BEGIN:VCALENDAR
VERSION:2.0
PRODID:-//jEvents 2.0 for Joomla//EN
CALSCALE:GREGORIAN
METHOD:PUBLISH
BEGIN:VEVENT
UID:0a123ea1a24b70b6a145df542933ad66
CATEGORIES:Realschule
CREATED:20190924T141544
SUMMARY:Praktikum Kl. 9r
DESCRIPTION:
DTSTAMP:20260425T165100
DTSTART;VALUE=DATE:20200622
DTEND;VALUE=DATE:20200704
SEQUENCE:0
TRANSP:OPAQUE
END:VEVENT
END:VCALENDAR