BEGIN:VCALENDAR
VERSION:2.0
PRODID:-//jEvents 2.0 for Joomla//EN
CALSCALE:GREGORIAN
METHOD:PUBLISH
BEGIN:VEVENT
UID:ed33250f6f8365b21adc634e0f492e93
CATEGORIES:Allgemein
CREATED:20190924T142535
SUMMARY:Welcome Party Klasse 5
DESCRIPTION:
DTSTAMP:20260424T091000
DTSTART:20200717T130000
SEQUENCE:0
TRANSP:OPAQUE
END:VEVENT
END:VCALENDAR