BEGIN:VCALENDAR
VERSION:2.0
PRODID:-//jEvents 2.0 for Joomla//EN
CALSCALE:GREGORIAN
METHOD:PUBLISH
BEGIN:VEVENT
UID:7fc1ba05f85472265e8c0fb065b7de04
CATEGORIES:Gymnasium
CREATED:20200804T121404
SUMMARY:Kl. 5 Einschulung
DESCRIPTION:
DTSTAMP:20260424T034859
DTSTART:20200914T130000
SEQUENCE:0
TRANSP:OPAQUE
END:VEVENT
END:VCALENDAR