BEGIN:VCALENDAR
VERSION:2.0
PRODID:-//jEvents 2.0 for Joomla//EN
CALSCALE:GREGORIAN
METHOD:PUBLISH
BEGIN:VEVENT
UID:d4cf0d1eac27a313578abdb113b8016c
CATEGORIES:Realschule
CREATED:20200804T121547
SUMMARY:Unterrichtsbeginn Kl. 5
DESCRIPTION:
DTSTAMP:20260424T035425
DTSTART:20200915T060000
SEQUENCE:0
TRANSP:OPAQUE
END:VEVENT
END:VCALENDAR