BEGIN:VCALENDAR
VERSION:2.0
PRODID:-//jEvents 2.0 for Joomla//EN
CALSCALE:GREGORIAN
METHOD:PUBLISH
BEGIN:VEVENT
UID:4836b7a1c4d78b704aa7eca0f8f29361
CATEGORIES:Realschule
CREATED:20200804T121810
SUMMARY:Elternabend Kl. 5-10
DESCRIPTION:
DTSTAMP:20260424T051625
DTSTART:20200917T173000
SEQUENCE:0
TRANSP:OPAQUE
END:VEVENT
END:VCALENDAR