BEGIN:VCALENDAR
VERSION:2.0
PRODID:-//jEvents 2.0 for Joomla//EN
CALSCALE:GREGORIAN
METHOD:PUBLISH
BEGIN:VEVENT
UID:dc44b91c12d89c7b526d7e7eac03d6cf
CATEGORIES:Gymnasium
CREATED:20200804T121950
SUMMARY:Elternabend Kl. 9/10
DESCRIPTION:
DTSTAMP:20260424T034823
DTSTART:20200922T173000
SEQUENCE:0
TRANSP:OPAQUE
END:VEVENT
END:VCALENDAR