BEGIN:VCALENDAR
VERSION:2.0
PRODID:-//jEvents 2.0 for Joomla//EN
CALSCALE:GREGORIAN
METHOD:PUBLISH
BEGIN:VEVENT
UID:b99963bcf8a07d31c74447ef6aec3b75
CATEGORIES:Gymnasium
CREATED:20200804T122219
SUMMARY:Elternabend Kl. 11/ K1
DESCRIPTION:
DTSTAMP:20260424T051445
DTSTART:20200924T173000
SEQUENCE:0
TRANSP:OPAQUE
END:VEVENT
END:VCALENDAR