BEGIN:VCALENDAR
VERSION:2.0
PRODID:-//jEvents 2.0 for Joomla//EN
CALSCALE:GREGORIAN
METHOD:PUBLISH
BEGIN:VEVENT
UID:f8a89a46d0f2dbe1c780f1fce167982b
CATEGORIES:Seminar für Aus- und Weiterbildung
CREATED:20200804T122554
SUMMARY:Montessori-Zertifikatskurs Sekundarstufe
DESCRIPTION:
DTSTAMP:20260424T055349
DTSTART;VALUE=DATE:20200925
DTEND;VALUE=DATE:20200927
SEQUENCE:0
TRANSP:OPAQUE
END:VEVENT
END:VCALENDAR