BEGIN:VCALENDAR
VERSION:2.0
PRODID:-//jEvents 2.0 for Joomla//EN
CALSCALE:GREGORIAN
METHOD:PUBLISH
BEGIN:VEVENT
UID:f230b5894a119b5fbf0113894becc242
CATEGORIES:Grundschule
CREATED:20200804T122748
SUMMARY:Elternabend
DESCRIPTION:
DTSTAMP:20260424T101023
DTSTART;VALUE=DATE:20200923
DTEND;VALUE=DATE:20200924
SEQUENCE:0
TRANSP:OPAQUE
END:VEVENT
END:VCALENDAR