BEGIN:VCALENDAR
VERSION:2.0
PRODID:-//jEvents 2.0 for Joomla//EN
CALSCALE:GREGORIAN
METHOD:PUBLISH
BEGIN:VEVENT
UID:c6fe983ebd060b124d850e40c7eccd7a
CATEGORIES:Seminar für Aus- und Weiterbildung
CREATED:20200804T154035
SUMMARY:Montessori-Diplomkurs
DESCRIPTION:
DTSTAMP:20260425T211101
DTSTART;VALUE=DATE:20210306
DTEND;VALUE=DATE:20210307
SEQUENCE:0
TRANSP:OPAQUE
END:VEVENT
END:VCALENDAR