BEGIN:VCALENDAR
VERSION:2.0
PRODID:-//jEvents 2.0 for Joomla//EN
CALSCALE:GREGORIAN
METHOD:PUBLISH
BEGIN:VEVENT
UID:2f2b73b6487428db4a47457809a57fd3
CATEGORIES:Seminar für Aus- und Weiterbildung
CREATED:20200804T154103
SUMMARY:Montessori-Zertifikatskurs Frühpädagogik
DESCRIPTION:
DTSTAMP:20260425T154325
DTSTART;VALUE=DATE:20210313
DTEND;VALUE=DATE:20210314
SEQUENCE:0
TRANSP:OPAQUE
END:VEVENT
END:VCALENDAR