BEGIN:VCALENDAR
VERSION:2.0
PRODID:-//jEvents 2.0 for Joomla//EN
CALSCALE:GREGORIAN
METHOD:PUBLISH
BEGIN:VEVENT
UID:ea7d5790c13fac97db216587b5102896
CATEGORIES:Allgemein
CREATED:20210813T154039
SUMMARY:Green Campus Day
DESCRIPTION:
DTSTAMP:20260425T224724
DTSTART;VALUE=DATE:20211115
DTEND;VALUE=DATE:20211116
SEQUENCE:0
TRANSP:OPAQUE
END:VEVENT
END:VCALENDAR