BEGIN:VCALENDAR
VERSION:2.0
PRODID:-//jEvents 2.0 for Joomla//EN
CALSCALE:GREGORIAN
METHOD:PUBLISH
BEGIN:VEVENT
UID:9616ab6777a2b032a8560a03b5195bba
CATEGORIES:Seminar für Aus- und Weiterbildung
CREATED:20190924T141909
SUMMARY:Montessori-Zertifikatskurs
DESCRIPTION:
DTSTAMP:20260425T045547
DTSTART;VALUE=DATE:20200703
DTEND;VALUE=DATE:20200705
SEQUENCE:0
TRANSP:OPAQUE
END:VEVENT
END:VCALENDAR