BEGIN:VCALENDAR
VERSION:2.0
PRODID:-//jEvents 2.0 for Joomla//EN
CALSCALE:GREGORIAN
METHOD:PUBLISH
BEGIN:VEVENT
UID:ecd785a585125264f498b09d4a6dcb7c
CATEGORIES:Seminar für Aus- und Weiterbildung
CREATED:20200311T110624
SUMMARY:Workshop: Jahreszeiten erleben in Naturbegegnungen
LOCATION:Schwimmbadstraße 8\, 79100 Freiburg
DESCRIPTION:Workshop-Reihe "Das Kleinkind in der Montessori-Pädagogik" – Schwerpunkt "D
 as Kind und die Natur".Workshop 3: Die Jahreszeiten erleben in Naturbegegnu
 ngen\nKleinkinder erleben die Welt mit allen Sinnen und entwickeln große Lu
 st am Lernen. Die Umsetzung der Montessori-Pädagogik stärkt das Kind in sei
 ner Entwicklung zur Selbstständigkeit, gibt Struktur im Alltag und fördert 
 das soziale Miteinander. In den Workshops schauen wir uns gemeinsam Alltags
 situationen an und erarbeiten praktische Konzepte. Die Workshops richten si
 ch an pädagogische Fachkräfte aus Kinderkrippe und Kindertagespflege und an
  Eltern.\n Termine\n \n Leitung: Katharina Litzenberger, Praxis-Dozentin de
 r Deutschen Montessori-Vereinigung Aachen e.V., Praxis-Dozentin der DMG, Wi
 ldpflanzen- und Heilkräuterpädagogin\nTeilnahmegebühr: 35 € pro Workshop. A
 lle Teilnehmer erhalten eine Teilnahmebestätigung. Bei Teilnahme an allen d
 rei Workshops erhalten sie ein Zertifikat.\nKontakt/Anmeldung: Diese E-Mail
 -Adresse ist vor Spambots geschützt! Zur Anzeige muss JavaScript eingeschal
 tet sein. oder 0761/70329-139\n
X-ALT-DESC;FMTTYPE=text/html:<h2>Workshop-Reihe "Das Kleinkind in der Montessori-Pädagogik" – Schwerpunk
 t "Das Kind und die Natur".</h2><p><strong>Workshop 3: </strong><strong>Die
  Jahreszeiten erleben in Naturbegegnungen</strong></p><p>Kleinkinder erlebe
 n die Welt mit allen Sinnen und entwickeln große Lust am Lernen. Die Umsetz
 ung der Montessori-Pädagogik stärkt das Kind in seiner Entwicklung zur Selb
 stständigkeit, gibt Struktur im Alltag und fördert das soziale Miteinander.
  In den Workshops schauen wir uns gemeinsam Alltagssituationen an und erarb
 eiten praktische Konzepte. Die Workshops richten sich an pädagogische Fachk
 räfte aus Kinderkrippe und Kindertagespflege und an Eltern.<br /> Termine<b
 r /> <br /> <strong>Leitung:</strong> Katharina Litzenberger, Praxis-Dozent
 in der Deutschen Montessori-Vereinigung Aachen e.V., Praxis-Dozentin der DM
 G, Wildpflanzen- und Heilkräuterpädagogin</p><p><strong>Teilnahmegebühr:</s
 trong> 35 € pro Workshop. Alle Teilnehmer erhalten eine Teilnahmebestätigun
 g. Bei Teilnahme an allen drei Workshops erhalten sie ein Zertifikat.</p><p
 ><strong>Kontakt/Anmeldung:</strong> <joomla-hidden-mail  is-link="1" is-em
 ail="1" first="c2VtaW5hcg==" last="YW5nZWxsLmRl" text="c2VtaW5hckBhbmdlbGwu
 ZGU=" base="" >Diese E-Mail-Adresse ist vor Spambots geschützt! Zur Anzeige
  muss JavaScript eingeschaltet sein.</joomla-hidden-mail> oder 0761/70329-1
 39</p>
DTSTAMP:20260425T040821
DTSTART:20200715T123000
DTEND:20200715T150000
SEQUENCE:0
TRANSP:OPAQUE
END:VEVENT
END:VCALENDAR