BEGIN:VCALENDAR
VERSION:2.0
PRODID:-//jEvents 2.0 for Joomla//EN
CALSCALE:GREGORIAN
METHOD:PUBLISH
BEGIN:VEVENT
UID:112741612992a51dea2f949bc0b1e33a
CATEGORIES:Realschule
CREATED:20190911T143451
SUMMARY:Nikolausolympiade
DESCRIPTION:
DTSTAMP:20260424T124346
DTSTART;VALUE=DATE:20191205
DTEND;VALUE=DATE:20191206
SEQUENCE:0
TRANSP:OPAQUE
END:VEVENT
END:VCALENDAR