BEGIN:VCALENDAR
VERSION:2.0
PRODID:-//jEvents 2.0 for Joomla//EN
CALSCALE:GREGORIAN
METHOD:PUBLISH
BEGIN:VEVENT
UID:34cde38736226b749e3336ccd66e213b
CATEGORIES:Gymnasium
CREATED:20190911T143747
SUMMARY:Elternsprechtag
DESCRIPTION:
DTSTAMP:20260425T030258
DTSTART:20191206T070000
DTEND:20191206T170000
SEQUENCE:0
TRANSP:OPAQUE
END:VEVENT
END:VCALENDAR