BEGIN:VCALENDAR
VERSION:2.0
PRODID:-//jEvents 2.0 for Joomla//EN
CALSCALE:GREGORIAN
METHOD:PUBLISH
BEGIN:VEVENT
UID:23c59bd106c8cfe9ce8bc9f44449f185
CATEGORIES:Seminar für Aus- und Weiterbildung
CREATED:20190911T144623
SUMMARY:Montessori-Zertifikatskurs
DESCRIPTION:
DTSTAMP:20260424T191142
DTSTART;VALUE=DATE:20200117
DTEND;VALUE=DATE:20200119
SEQUENCE:0
TRANSP:OPAQUE
END:VEVENT
END:VCALENDAR