BEGIN:VCALENDAR
VERSION:2.0
PRODID:-//jEvents 2.0 for Joomla//EN
CALSCALE:GREGORIAN
METHOD:PUBLISH
BEGIN:VEVENT
UID:7ae52209ee75309acf6a9502561ea169
CATEGORIES:Allgemein
CREATED:20240820T135749
SUMMARY:Demokratietag
DESCRIPTION:
DTSTAMP:20260425T045346
DTSTART;VALUE=DATE:20250211
DTEND;VALUE=DATE:20250212
SEQUENCE:0
TRANSP:OPAQUE
END:VEVENT
END:VCALENDAR