BEGIN:VCALENDAR
VERSION:2.0
PRODID:-//jEvents 2.0 for Joomla//EN
CALSCALE:GREGORIAN
METHOD:PUBLISH
BEGIN:VEVENT
UID:d26659202b81b2fbf70d076f73b994c5
CATEGORIES:Grundschule
CREATED:20241216T084851
SUMMARY:Pädagogischer Tag
DESCRIPTION:
DTSTAMP:20260425T144522
DTSTART;VALUE=DATE:20250107
DTEND;VALUE=DATE:20250108
SEQUENCE:0
TRANSP:OPAQUE
END:VEVENT
END:VCALENDAR